BEGIN:VCALENDAR
VERSION:2.0
PRODID:-//JPTVET - ECPv6.0.6.2//NONSGML v1.0//EN
CALSCALE:GREGORIAN
METHOD:PUBLISH
X-WR-CALNAME:JPTVET
X-ORIGINAL-URL:https://jptvet.almaskills.com
X-WR-CALDESC:Events for JPTVET
REFRESH-INTERVAL;VALUE=DURATION:PT1H
X-Robots-Tag:noindex
X-PUBLISHED-TTL:PT1H
BEGIN:VTIMEZONE
TZID:UTC
BEGIN:STANDARD
TZOFFSETFROM:+0000
TZOFFSETTO:+0000
TZNAME:UTC
DTSTART:20230101T000000
END:STANDARD
END:VTIMEZONE
BEGIN:VEVENT
DTSTART;TZID=UTC:20231118T090000
DTEND;TZID=UTC:20231118T140000
DTSTAMP:20260425T152435
CREATED:20231115T081525Z
LAST-MODIFIED:20231115T081525Z
UID:2042-1700298000-1700316000@jptvet.almaskills.com
SUMMARY:SERIAN - BILIK SANTAPAN\, DEWAN MASYARAKAT
DESCRIPTION:Sesi Taklimat & Temuduga TVET bagi belia di Sabah akan dijalankan diBILIK SANTAPAN\, DEWAN MASYARAKAT SERIAN \nTEMPAT:SERIAN - BILIK SANTAPAN\, DEWAN MASYARAKAT SERIAN\, BANDAR SERIAN\, 94700 SERIAN\, SARAWAK \nUntuk permohonan sesi taklimat & temuduga sila tekan klik pautan di bawah: \nTekan Pautan untuk Memohon
URL:https://jptvet.almaskills.com/kalendar-program-temuduga/serian-bilik-santapan-dewan-masyarakat/
END:VEVENT
END:VCALENDAR