BEGIN:VCALENDAR
VERSION:2.0
PRODID:-//JPTVET - ECPv6.0.6.2//NONSGML v1.0//EN
CALSCALE:GREGORIAN
METHOD:PUBLISH
X-WR-CALNAME:JPTVET
X-ORIGINAL-URL:https://jptvet.almaskills.com
X-WR-CALDESC:Events for JPTVET
REFRESH-INTERVAL;VALUE=DURATION:PT1H
X-Robots-Tag:noindex
X-PUBLISHED-TTL:PT1H
BEGIN:VTIMEZONE
TZID:UTC
BEGIN:STANDARD
TZOFFSETFROM:+0000
TZOFFSETTO:+0000
TZNAME:UTC
DTSTART:20220101T000000
END:STANDARD
END:VTIMEZONE
BEGIN:VEVENT
DTSTART;TZID=UTC:20231119T090000
DTEND;TZID=UTC:20231119T140000
DTSTAMP:20260423T235009
CREATED:20231115T081924Z
LAST-MODIFIED:20231115T081924Z
UID:2044-1700384400-1700402400@jptvet.almaskills.com
SUMMARY:KUCHING - BILIK KULIAH 2\, KOMPLEKS BELIA & SUKAN
DESCRIPTION:Sesi Taklimat & Temuduga TVET bagi belia di Sabah akan dijalankan diBILIK KULIAH 2\, KOMPLEKS BELIA & SUKAN \nTEMPAT:KUCHING - BILIK KULIAH 2\, KOMPLEKS BELIA & SUKAN NEGERI SARAWAK\, Q3A JALAN TUN DATUK PATINGGI HJ AHMAD ZAIDI ADRUCE\, 93150 KUCHING\, SARAWAK \nUntuk permohonan sesi taklimat & temuduga sila tekan klik pautan di bawah: \nTekan Pautan untuk Memohon
URL:https://jptvet.almaskills.com/kalendar-program-temuduga/kuching-bilik-kuliah-2-kompleks-belia-sukan/
END:VEVENT
BEGIN:VEVENT
DTSTART;TZID=UTC:20231118T090000
DTEND;TZID=UTC:20231118T140000
DTSTAMP:20260423T235009
CREATED:20231115T081525Z
LAST-MODIFIED:20231115T081525Z
UID:2042-1700298000-1700316000@jptvet.almaskills.com
SUMMARY:SERIAN - BILIK SANTAPAN\, DEWAN MASYARAKAT
DESCRIPTION:Sesi Taklimat & Temuduga TVET bagi belia di Sabah akan dijalankan diBILIK SANTAPAN\, DEWAN MASYARAKAT SERIAN \nTEMPAT:SERIAN - BILIK SANTAPAN\, DEWAN MASYARAKAT SERIAN\, BANDAR SERIAN\, 94700 SERIAN\, SARAWAK \nUntuk permohonan sesi taklimat & temuduga sila tekan klik pautan di bawah: \nTekan Pautan untuk Memohon
URL:https://jptvet.almaskills.com/kalendar-program-temuduga/serian-bilik-santapan-dewan-masyarakat/
END:VEVENT
BEGIN:VEVENT
DTSTART;TZID=UTC:20231117T090000
DTEND;TZID=UTC:20231117T140000
DTSTAMP:20260423T235009
CREATED:20231115T081328Z
LAST-MODIFIED:20231115T081328Z
UID:2040-1700211600-1700229600@jptvet.almaskills.com
SUMMARY:BAU - BILIK MESYUARAT DEWAN SUARAH
DESCRIPTION:Sesi Taklimat & Temuduga TVET bagi belia di Sabah akan dijalankan diBILIK MESYUARAT\, DEWAN SUARAH BAU \nTEMPAT:BAU - BILIK MESYUARAT\, DEWAN SUARAH BAU\, JALAN LEE KHOI CHUN\, 94000 BAU\, SARAWAK \nUntuk permohonan sesi taklimat & temuduga sila tekan klik pautan di bawah: \nTekan Pautan untuk Memohon
URL:https://jptvet.almaskills.com/kalendar-program-temuduga/bau-bilik-mesyuarat-dewan-suarah/
END:VEVENT
BEGIN:VEVENT
DTSTART;TZID=UTC:20231016T090000
DTEND;TZID=UTC:20231016T140000
DTSTAMP:20260423T235009
CREATED:20231004T054301Z
LAST-MODIFIED:20231004T055717Z
UID:2027-1697446800-1697464800@jptvet.almaskills.com
SUMMARY:BAU - DEWAN SUARAH BAU
DESCRIPTION:Sesi Taklimat & Temuduga TVET bagi belia di Sabah akan dijalankan di DEWAN SUARAH BAU LOT 121 \nTEMPAT:BAU - DEWAN SUARAH BAU LOT 121\, JALAN LEE KOI CHUN\, 94000 BAU\, SARAWAK \nUntuk permohonan sesi taklimat & temuduga sila tekan klik pautan di bawah: \nTekan Pautan untuk Memohon
URL:https://jptvet.almaskills.com/kalendar-program-temuduga/bau-dewan-suarah-bau-lot-121/
END:VEVENT
BEGIN:VEVENT
DTSTART;TZID=UTC:20231015T090000
DTEND;TZID=UTC:20231015T140000
DTSTAMP:20260423T235009
CREATED:20231004T054054Z
LAST-MODIFIED:20231004T054054Z
UID:2025-1697360400-1697378400@jptvet.almaskills.com
SUMMARY:SAMARAHAN - DEWAN SUARAH KOTA SAMARAHAN
DESCRIPTION:Sesi Taklimat & Temuduga TVET bagi belia di Sabah akan dijalankan di DEWAN SUARAH KOTA SAMARAHAN \nTEMPAT:SAMARAHAN - DEWAN SUARAH KOTA SAMARAHAN\, JALAN KAMPUNG TANJUNG BUNDONG\, 94300 KOTA SAMARAHAN\, SARAWAK \nUntuk permohonan sesi taklimat & temuduga sila tekan klik pautan di bawah: \nTekan Pautan untuk Memohon
URL:https://jptvet.almaskills.com/kalendar-program-temuduga/samarahan-dewan-suarah-kota-samarahan/
END:VEVENT
BEGIN:VEVENT
DTSTART;TZID=UTC:20231014T090000
DTEND;TZID=UTC:20231014T140000
DTSTAMP:20260423T235009
CREATED:20231004T053628Z
LAST-MODIFIED:20231004T055826Z
UID:2023-1697274000-1697292000@jptvet.almaskills.com
SUMMARY:KUCHING - KOMPLEX BELIA & SUKAN
DESCRIPTION:Sesi Taklimat & Temuduga TVET bagi belia di Sabah akan dijalankan di BILIK KULIAH 3 \nTEMPAT:KUCHING - BILIK KULIAH 3\, KOMPLEKS BELIA DAN SUKAN NEGERI SARAWAK\, JALAN TUN DATUK PATINGGI HJ AHMAD ZAIDI ADRUCE\, 93150 KUCHING\, SARAWAK \nUntuk permohonan sesi taklimat & temuduga sila tekan klik pautan di bawah: \nTekan Pautan untuk Memohon
URL:https://jptvet.almaskills.com/kalendar-program-temuduga/kuching-bilik-kuliah-3/
END:VEVENT
BEGIN:VEVENT
DTSTART;TZID=UTC:20231013T090000
DTEND;TZID=UTC:20231013T140000
DTSTAMP:20260423T235009
CREATED:20231004T052837Z
LAST-MODIFIED:20231006T033639Z
UID:2020-1697187600-1697205600@jptvet.almaskills.com
SUMMARY:SIBU - Li Hua Hotel Sibu
DESCRIPTION:Sesi Taklimat & Temuduga TVET bagi belia di Sabah akan dijalankan di Li Hua Hotel Sibu \nTEMPAT:SIBU - Jaya Li Hua Commercial Centre\, Jalan Diong Kik\, Off Jalan Pahlawan\, 96000 Sibu\, Sarawak \nUntuk permohonan sesi taklimat & temuduga sila tekan klik pautan di bawah: \nTekan Pautan untuk Memohon
URL:https://jptvet.almaskills.com/kalendar-program-temuduga/sibu-bilik-seminar-pustaka-sibu/
END:VEVENT
BEGIN:VEVENT
DTSTART;TZID=UTC:20231012T090000
DTEND;TZID=UTC:20231012T140000
DTSTAMP:20260423T235009
CREATED:20231004T055238Z
LAST-MODIFIED:20231004T055238Z
UID:2032-1697101200-1697119200@jptvet.almaskills.com
SUMMARY:BINTULU - MINI AUDITORIUM PUSTAKA BINTULU
DESCRIPTION:Sesi Taklimat & Temuduga TVET bagi belia di Sabah akan dijalankan di MINI AUDITORIUM PUSTAKA BINTULU \nTEMPAT:BINTULU - MINI AUDITORIUM PUSTAKA BINTULU\, PETISURAT 55\, 97007 BINTULU\, SARAWAK \nUntuk permohonan sesi taklimat & temuduga sila tekan klik pautan di bawah: \nTekan Pautan untuk Memohon
URL:https://jptvet.almaskills.com/kalendar-program-temuduga/bintulu-mini-auditorium-pustaka-bintulu/
END:VEVENT
BEGIN:VEVENT
DTSTART;TZID=UTC:20231011T090000
DTEND;TZID=UTC:20231011T140000
DTSTAMP:20260423T235009
CREATED:20231004T051832Z
LAST-MODIFIED:20231004T055348Z
UID:2016-1697014800-1697032800@jptvet.almaskills.com
SUMMARY:MIRI - AUDITORIUM PUSTAKA MIRI
DESCRIPTION:Sesi Taklimat & Temuduga TVET bagi belia di Sabah akan dijalankan diAUDITORIUM PUSTAKA MIRI \nTEMPAT:MIRI - AUDITORIUM PUSTAKA MIRI\, PUSTAKA MIRI 98000 MIRI\, SARAWAK \nUntuk permohonan sesi taklimat & temuduga sila tekan klik pautan di bawah: \nTekan Pautan untuk Memohon
URL:https://jptvet.almaskills.com/kalendar-program-temuduga/auditorium-pustaka-miri/
END:VEVENT
BEGIN:VEVENT
DTSTART;TZID=UTC:20230814T090000
DTEND;TZID=UTC:20230814T140000
DTSTAMP:20260423T235009
CREATED:20230725T032032Z
LAST-MODIFIED:20230725T034812Z
UID:2002-1692003600-1692021600@jptvet.almaskills.com
SUMMARY:Bilik Perdana\, Perbadanan Labuan
DESCRIPTION:Sesi Taklimat & Temuduga TVET bagi belia di Sabah akan dijalankan di Bilik Perdana\, Perbadanan Labuan \nTEMPAT: Bilik Perdana\, Perbadanan Labuan\, Peti Surat 81245\, Wilayah Persekutuan Labuan \nUntuk permohonan sesi taklimat & temuduga sila tekan klik pautan di bawah: \nTekan Pautan untuk Memohon
URL:https://jptvet.almaskills.com/kalendar-program-temuduga/bilik-perdana-perbadanan-labuan/
END:VEVENT
BEGIN:VEVENT
DTSTART;TZID=UTC:20230813T090000
DTEND;TZID=UTC:20230813T140000
DTSTAMP:20260423T235009
CREATED:20230725T031752Z
LAST-MODIFIED:20230725T034407Z
UID:2000-1691917200-1691935200@jptvet.almaskills.com
SUMMARY:Ruang Foyer\, Perpustakaan Keningau
DESCRIPTION:Sesi Taklimat & Temuduga TVET bagi belia di Sabah akan dijalankan di  Ruang Foyer\, Perpustakaan Keningau \nTEMPAT: Ruang Foyer\, Perpustakaan Keningau\, 89000 Keningau\, Sabah \nUntuk permohonan sesi taklimat & temuduga sila tekan klik pautan di bawah: \nTekan Pautan untuk Memohon
URL:https://jptvet.almaskills.com/kalendar-program-temuduga/ruang-foyer-perpustakaan-keningau/
END:VEVENT
BEGIN:VEVENT
DTSTART;TZID=UTC:20230812T090000
DTEND;TZID=UTC:20230812T140000
DTSTAMP:20260423T235009
CREATED:20230725T031223Z
LAST-MODIFIED:20230725T034313Z
UID:1998-1691830800-1691848800@jptvet.almaskills.com
SUMMARY:Bilik Seminar Perpustakaan Tanjung Aru
DESCRIPTION:Sesi Taklimat & Temuduga TVET bagi belia di Sabah akan dijalankan di Bilik Seminar Perpustakaan Tanjung Aru \nTEMPAT: Bilik Seminar Perpustakaan Tanjung Aru\, Pekan Tanjung Aru\, 88100 Kota Kinabalu\, Sabah \nUntuk permohonan sesi taklimat & temuduga sila tekan klik pautan di bawah: \nTekan Pautan untuk Memohon
URL:https://jptvet.almaskills.com/kalendar-program-temuduga/bilik-seminar-perpustakaan-tanjung-aru/
END:VEVENT
BEGIN:VEVENT
DTSTART;TZID=UTC:20230811T090000
DTEND;TZID=UTC:20230811T140000
DTSTAMP:20260423T235009
CREATED:20230725T031019Z
LAST-MODIFIED:20230725T033414Z
UID:1996-1691744400-1691762400@jptvet.almaskills.com
SUMMARY:Bilik Seminar ULPL\, Politeknik Kota Kinabalu (PKK)
DESCRIPTION:Sesi Taklimat & Temuduga TVET bagi belia di Sabah akan dijalankan di Bilik Seminar ULPL\, Politeknik Kota Kinabalu (PKK) \nTEMPAT: Bilik Seminar ULPL\, Politeknik Kota Kinabalu (PKK)\, No 4\, Jalan Politeknik KKIP Barat\, Kota Kinabalu Industrial Park\, 88460 Kota Kinabalu\, Sabah \nUntuk permohonan sesi taklimat & temuduga sila tekan klik pautan di bawah: \nTekan Pautan untuk Memohon
URL:https://jptvet.almaskills.com/kalendar-program-temuduga/bilik-seminar-ulpl-politeknik-kota-kinabalu-pkk/
END:VEVENT
BEGIN:VEVENT
DTSTART;TZID=UTC:20230810T090000
DTEND;TZID=UTC:20230810T140000
DTSTAMP:20260423T235009
CREATED:20230725T030709Z
LAST-MODIFIED:20230725T033813Z
UID:1994-1691658000-1691676000@jptvet.almaskills.com
SUMMARY:Bilik Seminar\, Perpustakaan Ranau
DESCRIPTION:Sesi Taklimat & Temuduga TVET bagi belia di Sabah akan dijalankan di Bilik Seminar\, Perpustakaan Ranau \nTEMPAT: Bilik Seminar\, Perpustakaan Ranau\, Pekan Ranau\, 89308 Ranau\, Sabah \nUntuk permohonan sesi taklimat & temuduga sila tekan klik pautan di bawah: \nTekan Pautan untuk Memohon
URL:https://jptvet.almaskills.com/kalendar-program-temuduga/bilik-seminar-perpustakaan-ranau/
END:VEVENT
BEGIN:VEVENT
DTSTART;TZID=UTC:20230809T090000
DTEND;TZID=UTC:20230809T140000
DTSTAMP:20260423T235009
CREATED:20230725T030248Z
LAST-MODIFIED:20230725T033655Z
UID:1991-1691571600-1691589600@jptvet.almaskills.com
SUMMARY:Bilik seminar\, Hexan Hotel Kota Marudu
DESCRIPTION:Sesi Taklimat & Temuduga TVET bagi belia di Sabah akan dijalankan di Bilik seminar\, Hexan Hotel Kota Marudu \nTEMPAT: Bilik seminar\, Hexan Hotel Kota Marudu\, Lot A2-A5\, Haxan Light Industrial Centre\, Lorong Hexon Industrial Shop 2\, 89100 Kota Marudu\, Sabah \nUntuk permohonan sesi taklimat & temuduga sila tekan klik pautan di bawah: \nTekan Pautan untuk Memohon
URL:https://jptvet.almaskills.com/kalendar-program-temuduga/bilik-seminar-hexan-hotel-kota-marudu/
END:VEVENT
BEGIN:VEVENT
DTSTART;TZID=UTC:20230627T090000
DTEND;TZID=UTC:20230627T130000
DTSTAMP:20260423T235009
CREATED:20230613T031546Z
LAST-MODIFIED:20230613T031546Z
UID:1984-1687856400-1687870800@jptvet.almaskills.com
SUMMARY:Dewan Suarah Bau
DESCRIPTION:Sesi Taklimat & Temuduga TVET bagi belia di Sarawak akan dijalankan di Dewan Suarah Bau \nTEMPAT: Dewan Suarah Bau\, alan Lee Khoi Chun\, 94000 Bau\, Sarawak \nUntuk permohonan sesi taklimat & temuduga sila tekan klik pautan di bawah: \nTekan Pautan untuk Memohon
URL:https://jptvet.almaskills.com/kalendar-program-temuduga/dewan-suarah-bau-2/
END:VEVENT
BEGIN:VEVENT
DTSTART;TZID=UTC:20230626T090000
DTEND;TZID=UTC:20230626T130000
DTSTAMP:20260423T235009
CREATED:20230613T031425Z
LAST-MODIFIED:20230613T031425Z
UID:1982-1687770000-1687784400@jptvet.almaskills.com
SUMMARY:Dewan Suarah Kota Samarahan
DESCRIPTION:Sesi Taklimat & Temuduga TVET bagi belia di Sarawak akan dijalankan di Dewan Suarah Kota Samarahan \nTEMPAT: Dewan Suarah Kota Samarahan\, Jalan Kampung Tanjung Bundong\, 94300 Kota Samarahan\, Sarawak \nUntuk permohonan sesi taklimat & temuduga sila tekan klik pautan di bawah: \nTekan Pautan untuk Memohon
URL:https://jptvet.almaskills.com/kalendar-program-temuduga/dewan-suarah-kota-samarahan/
END:VEVENT
BEGIN:VEVENT
DTSTART;TZID=UTC:20230625T090000
DTEND;TZID=UTC:20230625T130000
DTSTAMP:20260423T235009
CREATED:20230613T031231Z
LAST-MODIFIED:20230613T031231Z
UID:1980-1687683600-1687698000@jptvet.almaskills.com
SUMMARY:City Library DBKU\, Kuching
DESCRIPTION:Sesi Taklimat & Temuduga TVET bagi belia di Sarawak akan dijalankan di City Library DBKU\, Kuching \nTEMPAT: City Library DBKU\, Aras 4&5\, Majma Tuanku Abdul Halim Mu’adzam Shah\, Lorong P. Ramlee 5\, Jalan P. Ramlee\, 93400 Kuching\, Sarawak \nUntuk permohonan sesi taklimat & temuduga sila tekan klik pautan di bawah: \nTekan Pautan untuk Memohon \n 
URL:https://jptvet.almaskills.com/kalendar-program-temuduga/city-library-dbku-kuching/
END:VEVENT
BEGIN:VEVENT
DTSTART;TZID=UTC:20230624T090000
DTEND;TZID=UTC:20230624T130000
DTSTAMP:20260423T235009
CREATED:20230613T030935Z
LAST-MODIFIED:20230613T031014Z
UID:1978-1687597200-1687611600@jptvet.almaskills.com
SUMMARY:Sarawak State Library\, Sibu
DESCRIPTION:Sesi Taklimat & Temuduga TVET bagi belia di Sarawak akan dijalankan di Sarawak State Library\, Sibu \nTEMPAT: Pustaka Negeri Sarawak Sibu\, Lot 1607\, Jalan Tun Tuanku Bujang\, Sungai Merah\, 96000 Sibu\, Sarawak \nUntuk permohonan sesi taklimat & temuduga sila tekan klik pautan di bawah: \nTekan Pautan untuk Memohon \n 
URL:https://jptvet.almaskills.com/kalendar-program-temuduga/sarawak-state-library-sibu/
END:VEVENT
BEGIN:VEVENT
DTSTART;TZID=UTC:20230623T090000
DTEND;TZID=UTC:20230623T130000
DTSTAMP:20260423T235009
CREATED:20230613T030710Z
LAST-MODIFIED:20230613T030710Z
UID:1976-1687510800-1687525200@jptvet.almaskills.com
SUMMARY:Perpustakaan Awam BDA Bintulu
DESCRIPTION:Sesi Taklimat & Temuduga TVET bagi belia di Sarawak akan dijalankan di Perpustakaan Awam BDA Bintulu \nTEMPAT: Perpustakaan Awam BDA Bintulu\, Peti surat 55\, Sarawak\, 97007 Bintulu \nUntuk permohonan sesi taklimat & temuduga sila tekan klik pautan di bawah: \nTekan Pautan untuk Memohon \n 
URL:https://jptvet.almaskills.com/kalendar-program-temuduga/perpustakaan-awam-bda-bintulu/
END:VEVENT
BEGIN:VEVENT
DTSTART;TZID=UTC:20230622T090000
DTEND;TZID=UTC:20230622T130000
DTSTAMP:20260423T235009
CREATED:20230613T030316Z
LAST-MODIFIED:20230613T030316Z
UID:1974-1687424400-1687438800@jptvet.almaskills.com
SUMMARY:Pustaka Negeri Sarawak\, Miri
DESCRIPTION:Sesi Taklimat & Temuduga TVET bagi belia di Sarawak akan dijalankan di Pustaka Negeri Sarawak\, Miri\nTEMPAT: Pustaka Negeri Sarawak\, Miri\, Pustaka Miri\, Jalan Kipas\, City Fan\, 98000 Miri\, Sarawak \nUntuk permohonan sesi taklimat & temuduga sila tekan klik pautan di bawah: \nTekan Pautan untuk Memohon \n 
URL:https://jptvet.almaskills.com/kalendar-program-temuduga/pustaka-negeri-sarawak-miri/
END:VEVENT
BEGIN:VEVENT
DTSTART;TZID=UTC:20230611T100000
DTEND;TZID=UTC:20230611T140000
DTSTAMP:20260423T235009
CREATED:20230608T072257Z
LAST-MODIFIED:20230608T072543Z
UID:1967-1686477600-1686492000@jptvet.almaskills.com
SUMMARY:MAKPEM SENTUL
DESCRIPTION:Sesi Taklimat & Temuduga TVET bagi belia di Selangor dan Kuala Lumpur akan dijalankan di Majlis Kebajikan dan Pembangunan Masyarakat Kebangsaan Malaysia (MAKPEM)\, Sentul\nTEMPAT: Majlis Kebajikan dan Pembangunan Masyarakat Kebangsaan Malaysia (MAKPEM)\, 17\, Jalan 1/48a\, Bandar Baru Sentul\, 51000 Kuala Lumpur\, Wilayah Persekutuan Kuala Lumpur \nUntuk permohonan sesi taklimat & temuduga sila tekan klik pautan di bawah: \nTekan Pautan untuk Memohon \n 
URL:https://jptvet.almaskills.com/kalendar-program-temuduga/makpem-sentul/
END:VEVENT
BEGIN:VEVENT
DTSTART;TZID=UTC:20230610T100000
DTEND;TZID=UTC:20230610T140000
DTSTAMP:20260423T235009
CREATED:20230608T070250Z
LAST-MODIFIED:20230608T072626Z
UID:1957-1686391200-1686405600@jptvet.almaskills.com
SUMMARY:Masjid DiRaja Sultan Ala'eddin Banting\, Selangor
DESCRIPTION:Sesi Taklimat & Temuduga TVET bagi belia di Selangor dan Kuala Lumpur akan dijalankan di Masjid DiRaja Sultan Ala’eddin Banting\, Selangor\nTEMPAT: Masjid DiRaja Sultan Ala’eddin Banting\, Jalan Istana Lama\, Kampung Bandar\, 42700 Banting\, Selangor \nUntuk permohonan sesi taklimat & temuduga sila tekan klik pautan di bawah: \nTekan Pautan untuk Memohon \n 
URL:https://jptvet.almaskills.com/kalendar-program-temuduga/masjid-diraja-sultan-alaeddin-banting-selangor/
END:VEVENT
BEGIN:VEVENT
DTSTART;TZID=UTC:20221224T100000
DTEND;TZID=UTC:20221224T130000
DTSTAMP:20260423T235009
CREATED:20221220T070923Z
LAST-MODIFIED:20221220T070923Z
UID:1875-1671876000-1671886800@jptvet.almaskills.com
SUMMARY:Masjid Toh Puan Besar Hatijah\, Batu Gajah
DESCRIPTION:Sesi Taklimat & Temuduga TVET bagi belia di Perak akan dijalankan di Masjid Toh Puan Besar Hatijah\, Batu Gajah.\nTEMPAT: Masjid Toh Puan Besar Hatijah\, Batu Gajah\, Jalan Besar\, Kampung Serani\, 31000 Batu Gajah\, Perak. \nUntuk permohonan sesi taklimat & temuduga sila tekan klik pautan di bawah: \nClick Here to Apply
URL:https://jptvet.almaskills.com/kalendar-program-temuduga/masjid-toh-puan-besar-hatijah-batu-gajah/
END:VEVENT
BEGIN:VEVENT
DTSTART;TZID=UTC:20221217T100000
DTEND;TZID=UTC:20221217T130000
DTSTAMP:20260423T235009
CREATED:20221212T074407Z
LAST-MODIFIED:20221212T074407Z
UID:1864-1671271200-1671282000@jptvet.almaskills.com
SUMMARY:Bilik Seminar Excel Space Puchong
DESCRIPTION:Sesi Taklimat & Temuduga TVET bagi belia di Selangor akan dijalankan di Bilik Seminar Excel Space Puchong.\nTEMPAT: Bilik Seminar Excel Space Puchong\, No 15\, Jalan Putra Perdana 3/1\, Putra Perdana\, 47130 Puchong\, Selangor. \nUntuk permohonan sesi taklimat & temuduga sila tekan klik pautan di bawah: \nClick Here to Apply
URL:https://jptvet.almaskills.com/kalendar-program-temuduga/bilik-seminar-excel-space-puchong/
END:VEVENT
BEGIN:VEVENT
DTSTART;TZID=UTC:20221211T100000
DTEND;TZID=UTC:20221211T130000
DTSTAMP:20260423T235009
CREATED:20221206T073950Z
LAST-MODIFIED:20221206T073950Z
UID:1862-1670752800-1670763600@jptvet.almaskills.com
SUMMARY:Dewan Seminar Masjid Nurul Islam
DESCRIPTION:Sesi Taklimat & Temuduga TVET bagi belia di Selangor akan dijalankan di Dewan Seminar Masjid Nurul Islam.\nTEMPAT: Dewan Seminar Masjid Nurul Islam\, Lorong 1\, Kampung Desa Pahlawan\, 55100 Kuala Lumpur\, Selangor \nUntuk permohonan sesi taklimat & temuduga sila tekan klik pautan di bawah: \nClick Here to Apply
URL:https://jptvet.almaskills.com/kalendar-program-temuduga/dewan-seminar-masjid-nurul-islam/
END:VEVENT
BEGIN:VEVENT
DTSTART;TZID=UTC:20221210T100000
DTEND;TZID=UTC:20221210T130000
DTSTAMP:20260423T235009
CREATED:20221206T073751Z
LAST-MODIFIED:20221206T073751Z
UID:1859-1670666400-1670677200@jptvet.almaskills.com
SUMMARY:Dewan Seminar\, Masjid Bandar Baru Sungai Buloh
DESCRIPTION:Sesi Taklimat & Temuduga TVET bagi belia di Selangor akan dijalankan di Dewan Seminar\, Masjid Bandar Baru Sungai Buloh.\nTEMPAT: DEWAN SEMINAR\, MASJID BANDAR BARU SUNGAI BULOH\, Jalan Kuala Selangor\, U 19\, 47000 Sungai Buloh\, Selangor \nUntuk permohonan sesi taklimat & temuduga sila tekan klik pautan di bawah: \nClick Here to Apply
URL:https://jptvet.almaskills.com/kalendar-program-temuduga/dewan-seminar-masjid-bandar-baru-sungai-buloh/
END:VEVENT
BEGIN:VEVENT
DTSTART;TZID=UTC:20221204T100000
DTEND;TZID=UTC:20221204T130000
DTSTAMP:20260423T235009
CREATED:20221129T051721Z
LAST-MODIFIED:20221129T051756Z
UID:1855-1670148000-1670158800@jptvet.almaskills.com
SUMMARY:Bilik Seminar Excel Space Putrajaya
DESCRIPTION:Sesi Taklimat & Temuduga TVET bagi belia di Wilayah Persekutuan Putrajaya akan dijalankan di Bilik Seminar Excel Space Putrajaya.\nTEMPAT: Bilik Seminar Excel Space cawangan Putrajaya\, Unit 4\, Galeria PJH\, 62100 Putrajaya\, Wilayah Persekutuan Putrajaya. \nUntuk permohonan sesi taklimat & temuduga sila tekan klik pautan di bawah: \nClick Here to Apply
URL:https://jptvet.almaskills.com/kalendar-program-temuduga/bilik-seminar-excel-space-putrajaya/
END:VEVENT
BEGIN:VEVENT
DTSTART;TZID=UTC:20221203T100000
DTEND;TZID=UTC:20221203T130000
DTSTAMP:20260423T235009
CREATED:20221129T050837Z
LAST-MODIFIED:20221129T051836Z
UID:1845-1670061600-1670072400@jptvet.almaskills.com
SUMMARY:Bilik Seminar Kantan Business Centre\, Kajang
DESCRIPTION:Sesi Taklimat & Temuduga TVET bagi belia di Selangor akan dijalankan di Bilik Seminar Kantan Business Centre\, Kajang.\nTEMPAT: Bilik Seminar Kantan Business\, Centre 7 1\, Jalan Bunga Kantan 1\, Taman Bunga Kantan 43000 Kajang\, Selangor. \nUntuk permohonan sesi taklimat & temuduga sila tekan klik pautan di bawah: \nClick Here to Apply
URL:https://jptvet.almaskills.com/kalendar-program-temuduga/bilik-seminar-kantan-business-centre-kajang/
END:VEVENT
BEGIN:VEVENT
DTSTART;TZID=UTC:20221127T100000
DTEND;TZID=UTC:20221127T130000
DTSTAMP:20260423T235009
CREATED:20221123T031422Z
LAST-MODIFIED:20221123T031852Z
UID:1839-1669543200-1669554000@jptvet.almaskills.com
SUMMARY:Bilik Seminar CIR Wangsa Maju KL
DESCRIPTION:Sesi Taklimat & Temuduga TVET bagi belia di Kuala Lumpur akan dijalankan di Bilik Seminar CIR Wangsa Maju KL. \nTEMPAT: Bilik Seminar CIR Wangsa Maju\, No 25\, 2\, Jalan 2A/27A\, Seksyen 1 Wangsa Maju\, 53300 Wilayah Persekutuan Kuala Lumpur. \nUntuk permohonan sesi taklimat & temuduga sila tekan klik pautan di bawah: \nClick Here to Apply
URL:https://jptvet.almaskills.com/kalendar-program-temuduga/bilik-seminar-cir-wangsa-maju-kl/
END:VEVENT
END:VCALENDAR