BEGIN:VCALENDAR
VERSION:2.0
PRODID:-//JPTVET - ECPv6.0.6.2//NONSGML v1.0//EN
CALSCALE:GREGORIAN
METHOD:PUBLISH
X-WR-CALNAME:JPTVET
X-ORIGINAL-URL:https://jptvet.almaskills.com
X-WR-CALDESC:Events for JPTVET
REFRESH-INTERVAL;VALUE=DURATION:PT1H
X-Robots-Tag:noindex
X-PUBLISHED-TTL:PT1H
BEGIN:VTIMEZONE
TZID:UTC
BEGIN:STANDARD
TZOFFSETFROM:+0000
TZOFFSETTO:+0000
TZNAME:UTC
DTSTART:20220101T000000
END:STANDARD
END:VTIMEZONE
BEGIN:VEVENT
DTSTART;TZID=UTC:20221104T100000
DTEND;TZID=UTC:20221104T130000
DTSTAMP:20260423T234236
CREATED:20221101T073459Z
LAST-MODIFIED:20221103T054958Z
UID:1547-1667556000-1667566800@jptvet.almaskills.com
SUMMARY:Akademi Keusahawanan Persada Hasra\, Pontian Johor
DESCRIPTION:Sesi Taklimat & Temuduga TVET bagi belia di Johor akan dijalankan di Akademi Keusahawanan Persada Hasra. \nTEMPAT: Akademi Keusahawanan Persada Hasra\, No 5\, Tingkat 1 Taman Sari Semerah\, Jalan Parit Semerah\, Pontian Johor (Deret Hotel Garden Semerah) \nUntuk permohonan sesi taklimat & temuduga\, sila tekan klik pautan di bawah: \nClick Here to Apply
URL:https://jptvet.almaskills.com/kalendar-program-temuduga/akademi-keusahawanan-persada-hasra/
LOCATION:Akademi Keusahawanan Persada Hasra
END:VEVENT
BEGIN:VEVENT
DTSTART;TZID=UTC:20221030T100000
DTEND;TZID=UTC:20221030T130000
DTSTAMP:20260423T234236
CREATED:20221028T072815Z
LAST-MODIFIED:20221028T072815Z
UID:1534-1667124000-1667134800@jptvet.almaskills.com
SUMMARY:KEPENTAS (Ibu Pejabat)\, Petaling Jaya
DESCRIPTION:Sesi Taklimat & Temuduga TVET bagi belia di Selangor akan dijalankan di KEPENTAS (ibu Pejabat). \nBerikut merupakan maklumat lengkap sesi temuduga: \nTARIKH: 30 OKT 2022 (Ahad)\nMASA: 10.00 Pagi – 1.00 Petang\nTEMPAT: KEPENTAS (Ibu Pejabat)\, 6-3\, Jalan PJS 8/4\, Sunway Mentari\, 46000 Petaling Jaya\, Selangor \nUntuk permohonan sesi taklimat & temuduga\, sila tekan klik pautan di bawah:\n  \nClick Here to Apply
URL:https://jptvet.almaskills.com/kalendar-program-temuduga/kepentas-ibu-pejabat-petaling-jaya/
LOCATION:KEPENTAS (Ibu Pejabat)\, KEPENTAS (Ibu Pejabat)\, 6-3\, Jalan PJS 8/4\, Sunway Mentari\, Petaling Jaya\, Selangor\, 46000\, Malaysia
END:VEVENT
BEGIN:VEVENT
DTSTART;TZID=UTC:20221023T100000
DTEND;TZID=UTC:20221023T130000
DTSTAMP:20260423T234236
CREATED:20221025T032600Z
LAST-MODIFIED:20221025T032600Z
UID:1528-1666519200-1666530000@jptvet.almaskills.com
SUMMARY:Masjid Bandar Diraja Klang\, Selangor
DESCRIPTION:Sesi Taklimat & Temuduga TVET bagi belia di Selangor akan dijalankan di Masjid Bandar Diraja Klang. \nBerikut merupakan maklumat lengkap sesi temuduga: \nTARIKH: 23 OKT 2022 (Ahad)\nMASA: 10.00 Pagi – 1.00 Petang\nTEMPAT: Masjid Bandar Diraja Klang\, Jalan Pasar\, Kawasan 18\, 41300 Klang\, Selangor. \nUntuk permohonan sesi taklimat & temuduga\, sila tekan klik pautan di bawah:\n  \nClick Here to Apply
URL:https://jptvet.almaskills.com/kalendar-program-temuduga/masjid-bandar-diraja-klang-selangor/
LOCATION:Masjid Bandar Diraja Klang\, Masjid Bandar Diraja Klang\, Jalan Pasar\, Kawasan 18\, Klang\, Selangor\, 41300\, Malaysia
END:VEVENT
BEGIN:VEVENT
DTSTART;TZID=UTC:20221022T100000
DTEND;TZID=UTC:20221022T130000
DTSTAMP:20260423T234236
CREATED:20221025T030634Z
LAST-MODIFIED:20221025T032646Z
UID:1524-1666432800-1666443600@jptvet.almaskills.com
SUMMARY:Masjid Asy-Syakirin KLCC\, Kuala Lumpur
DESCRIPTION:Sesi Taklimat & Temuduga TVET bagi belia di Kuala Lumpur akan dijalankan di Masjid ASy-Syakirin KLCC. \nBerikut merupakan maklumat lengkap sesi temuduga: \nTARIKH: 22 OKT 2022 (Sabtu)\nMASA: 10.00 Pagi – 1.00 Petang\nTEMPAT: Masjid ASy-Syakirin KLCC\, Lot 41\, Seksyen 58\, Jalan Pinang\, 50450\, Kuala Lumpur \nUntuk permohonan sesi taklimat & temuduga\, sila tekan klik pautan di bawah:\n  \nClick Here to Apply
URL:https://jptvet.almaskills.com/kalendar-program-temuduga/masjid-asy-syakirin-klcc/
LOCATION:Masjid Asy-Syakirin\, Masjid ASy-Syakirin KLCC\, Lot 41\, Seksyen 58\, Jalan Pinang\, Kuala Lumpur\, Kuala Lumpur\, 50450\, Malaysia
END:VEVENT
BEGIN:VEVENT
DTSTART;TZID=UTC:20221018T090000
DTEND;TZID=UTC:20221018T130000
DTSTAMP:20260423T234236
CREATED:20221004T072818Z
LAST-MODIFIED:20221018T175058Z
UID:1026-1666083600-1666098000@jptvet.almaskills.com
SUMMARY:Dewan Suarah Bau\, Sarawak
DESCRIPTION:Sesi Taklimat & Temuduga TVET Anak Sarawak di Bau akan dijalankan di Dewan Suarah Bau. \nBerikut merupakan maklumat lengkap sesi temuduga: \nTARIKH: 18 OKT 2022 (Selasa)\nMASA: 9.00 Pagi – 1.00 Petang\nTEMPAT: Bilik Seminar\, Dewan Suarah Bau\, 94000 Bau\, Sarawak \nUntuk permohonan sesi taklimat & temuduga\, sila tekan klik pautan di bawah:\n  \nClick Here to Apply
URL:https://jptvet.almaskills.com/kalendar-program-temuduga/dewan-suarah-bau/
LOCATION:Dewan Suarah Bau\, Bilik Seminar\, Dewan Suarah Bau\, Bau\, Sarawak
END:VEVENT
BEGIN:VEVENT
DTSTART;TZID=UTC:20221017T090000
DTEND;TZID=UTC:20221017T130000
DTSTAMP:20260423T234236
CREATED:20221004T071038Z
LAST-MODIFIED:20221018T174604Z
UID:1007-1665997200-1666011600@jptvet.almaskills.com
SUMMARY:Dewan Suarah Kota Samarahan\, Sarawak
DESCRIPTION:Sesi Taklimat & Temuduga TVET Anak Sarawak di Kota Samarahan akan dijalankan di Dewan Kota Samarahan. \nBerikut merupakan maklumat lengkap sesi temuduga: \nTARIKH: 17 OKT 2022 (Isnin)\nMASA: 9.00 Pagi – 1.00 Petang\nTEMPAT: Bilik Kegiatan Tingkat Bawah\, Dewan Suarah Kota Samarahan\, Jalan Kampung Tanjung Bundong\, 94300 Kota Samarahan\, Sarawak. \nUntuk permohonan sesi taklimat & temuduga\, sila tekan klik pautan di bawah: \n  \nClick Here to Apply
URL:https://jptvet.almaskills.com/kalendar-program-temuduga/dewan-suarah-kota-samarahan-sarawak/
LOCATION:Dewan Suarah Kota Samarahan\, Bilik Kegiatan Tingkat Bawah\, Dewan Suarah Kota Samarahan\, Jalan Kampung Tanjung Bundong\, Kota Samarahan\, Sarawak
END:VEVENT
BEGIN:VEVENT
DTSTART;TZID=UTC:20221016T090000
DTEND;TZID=UTC:20221016T130000
DTSTAMP:20260423T234236
CREATED:20221004T072757Z
LAST-MODIFIED:20221018T174621Z
UID:1032-1665910800-1665925200@jptvet.almaskills.com
SUMMARY:City Library DBKU\, Sarawak
DESCRIPTION:Sesi Taklimat & Temuduga TVET Anak Sarawak di Kuching akan dijalankan di City Library DBKU. \nBerikut merupakan maklumat lengkap sesi temuduga: \nTARIKH: 16 OKT 2022 (AHAD)\nMASA: 9.00 PAGI – 1.00 PETANG\nTEMPAT: CITY LIBRARY DBKU\, ARAS 4 & 5\, MAJMA TUNKU ABDUL HALIM MUADZAM SHAH\, LORONG P.RAMLEE 5\, JALAN P.RAMLEE\, 93400 KUCHING\, SARAWAK \nUntuk permohonan sesi taklimat & temuduga\, pelajar boleh klik pautan di bawah: \n  \nClick Here to Apply
URL:https://jptvet.almaskills.com/kalendar-program-temuduga/city-library-dbku/
LOCATION:City Library DBKU\, City Library DBKU\, Aras 4 & 5\, Majma Tunku Abdul Halim Muadzam Shah\, Lorong P. Ramlee 5\, Jalan P. Ramlee\, Kuching\, Sarawak\, 93400\, Malaysia
END:VEVENT
BEGIN:VEVENT
DTSTART;TZID=UTC:20221015T090000
DTEND;TZID=UTC:20221015T130000
DTSTAMP:20260423T234236
CREATED:20221004T071207Z
LAST-MODIFIED:20221018T174647Z
UID:1006-1665824400-1665838800@jptvet.almaskills.com
SUMMARY:Pustaka Negeri Sarawak Sibu\, Sarawak
DESCRIPTION:Sesi Taklimat & Temuduga TVET Anak Sarawak di Sibu akan dijalankan di Pustaka Negeri Sarawak Sibu. \nBerikut merupakan maklumat lengkap sesi temuduga: \nTARIKH: 15 OKT 2022 (SABTU)\nMASA: 9.00 PAGI – 1.00 PETANG\nTEMPAT: BILIK SERBAGUNA\, PUSTAKA NEGERI SARAWAK SIBU\, LOT 1607\, JALAN TUN TUANKU BUJANG\, SUNGAI MERAH\, 96000 SIBU\, SARAWAK \nUntuk permohonan sesi taklimat & temuduga\, pelajar boleh klik pautan di bawah: \nClick Here to Apply
URL:https://jptvet.almaskills.com/kalendar-program-temuduga/pustaka-negeri-sarawak-sibu/
LOCATION:Pustaka Negeri Sarawak Sibu\, Bilik Serbaguna\, Pustaka Negeri Sarawak Sibu\, Lot 1607\, Jalan Tun Tuanku Bujang\, Sungai Merah\, Sibu\, Sarawak\, 96000\, Malaysia
END:VEVENT
BEGIN:VEVENT
DTSTART;TZID=UTC:20221014T090000
DTEND;TZID=UTC:20221014T130000
DTSTAMP:20260423T234236
CREATED:20221004T071715Z
LAST-MODIFIED:20221018T174705Z
UID:1011-1665738000-1665752400@jptvet.almaskills.com
SUMMARY:Perpustakaan Awam Bintulu\, Sarawak
DESCRIPTION:Sesi Taklimat & Temuduga TVET Anak Sarawak di Bintulu akan dijalankan di Perpustakaan Awam Bintulu. \nBerikut merupakan maklumat lengkap sesi temuduga: \nTARIKH: 14 OKT 2022 (Jumaat)\nMASA: 9.00 Pagi – 1.00 Petang\nTEMPAT: BILIK SERBAGUNA\, PERPUSTAKAAN AWAM BINTULU\, PETI SURAT 55\, 97007 BINTULU\, SARAWAK. \nUntuk permohonan sesi taklimat & temuduga\, sila klik pautan di bawah: \n  \nClick Here to Apply
URL:https://jptvet.almaskills.com/kalendar-program-temuduga/perpustakaan-awam-bintulu-sarawak/
LOCATION:Perpustakaan Awam Bintulu\, Bilik Serbaguna\, Perpustakaan Awam Bintulu\, Peti Surat 55\, Bintulu\, Sarawak\, 97007\, Malaysia
END:VEVENT
BEGIN:VEVENT
DTSTART;TZID=UTC:20221013T090000
DTEND;TZID=UTC:20221013T130000
DTSTAMP:20260423T234236
CREATED:20221004T070735Z
LAST-MODIFIED:20221018T174747Z
UID:1005-1665651600-1665666000@jptvet.almaskills.com
SUMMARY:Dewan Suarah Miri\, Sarawak
DESCRIPTION:Sesi Taklimat & Temuduga TVET Anak Sarawak di Miri akan dijalankan di Dewan Suarah Miri \nBerikut merupakan maklumat lengkap sesi temuduga: \nTARIKH: 13 OKT 2022 (Khamis)\nMASA: 9.00 Pagi – 1.00 Petang\nTEMPAT: TINGKAT 1\, DEWAN SUARAH MIRI\, JALAN MERDU\, 98000 MIRI\, SARAWAK \nUntuk permohonan sesi taklimat & temuduga\, sila klik pautan di bawah: \n  \nClick Here to Apply
URL:https://jptvet.almaskills.com/kalendar-program-temuduga/dewan-suarah-miri-sarawak/
LOCATION:Dewan Suarah Miri\, Tingkat 1\, Dewan Suarah Miri\, Jalan Merdu\, Miri\, Sarawak\, 98000\, Malaysia
END:VEVENT
BEGIN:VEVENT
DTSTART;TZID=UTC:20221002T100000
DTEND;TZID=UTC:20221002T130000
DTSTAMP:20260423T234236
CREATED:20221004T063031Z
LAST-MODIFIED:20221004T063031Z
UID:986-1664704800-1664715600@jptvet.almaskills.com
SUMMARY:Taiping\, Perak
DESCRIPTION:TEMUDUGA KOUTA TAWARAN KEMASUKAN PROGRAM KEMAHIRAN TVET MALAYSIA BAGI BELIA \nBIASISWA TVET (YURAN PENGAJIAN & PENGINAPAN) HANYA KURSUS TERTENTU & BERSYARAT\nProgram pembelajaran secara kemahiran & teknikal dengan kerjaya yang akan bertempat di *Pusat Pentauliahan Kemahiran di sekitar Negeri Johor\, Pahang\, Melaka dan Selangor/KL.* \nKEUTAMAAN KEPADA PEMOHON:\n✓ Berumur 15 – 25 tahun\n✓ Keputusan SPM tidak Layak mohon UPU (hanya kurang dari 3 Kepujian/kredit)\n✓ Minat Bidang Kemahiran & mengelakkan diri ke IPTS\n✓ Hanya GAGAL & LULUS SPM\n✓ Tidak memiliki Sijil Akademik seperti SPM/PT3 \nPROGRAM PRA DIPLOMA SAINS & DIPLOMA SAINS USAHASAMA (UA) SESI KEMASUKAN 2022/2023 TAJAAN BIASISWA PENUH BERSYARAT TANPA UPU BAGI YANG GAGAL MEMENUHI SYARAT KELAYAKAN UPU (Minimum 3 Kepujian dalam SPM) \nKURSUS YANG DIBUKA\n‼️ MEKATRONIK\n‼️ AUTOMOTIF\n‼️ JURUTEKNIK ELEKTRIK\n‼️ KIMPALAN\n‼️ RANGKAIAN SISTEM KOMPUTER\n‼️ SISTEM MAKLUMAT\n‼️ PENGURUSAN PEJABAT\n‼️ PENDIDIKAN AWAL KANAK KANAK\n‼️ SENI KULINARI\n‼️ MULTIMEDIA INTERAKTIF\n‼️ PERFILEMAN\n‼️ GRAFIK DESIGN\n‼️ SOLEKAN DAN KECANTIKAN \n📌 INSENTIF PINJAMAN KERAJAAN & KELEBIHAN\n(TVET Malaysia)\n✓ SIJIL & DIPLOMA diiktiraf & ditauliahkan oleh KERAJAAN\n✓ ELAUN SARA DIRI RM400 – RM600 SEBULAN\n✓ ELAUN PENGANGKUTAN RM2000 ONE OFF (PILIHAN)\n✓ ELAUN KOMPUTER RIBA RM 2500 ONE OFF (PILIHAN)\n✓ ADA PENGINAPAN ASRAMA\n✓ JAMINAN PEKERJAAN setelah Tamat Pengajian oleh INDUSTRI berkaitan. \nSila bawa bersama dokumen yang diperlukan :-\nSalinan Kad Pengenalan\nSalinan Keputusan PMR/PT3/ PRA SPM / SPM (Hanya Salah Satu shj).\nKehadiran temuduga WAJIB bersama IBUBAPA ATAU WAKIL PENJAGA \n✏️ PENGESAHAN ATAU CARA PERMOHONAN WAJIB melalui LINK dibawah:\nLINK PERMOHONAN\nhttps://forms.gle/N2EjS4pNn2StsVSn7 \n” KEMAHIRAN TVET PEMACU INDUSTRI NEGARA 🎓” \nSekian\, terima kasih.
URL:https://jptvet.almaskills.com/kalendar-program-temuduga/taiping-perak/
LOCATION:Dewan Warisan Taiping\, Dewan Warisan Taiping\, Hotel Perdana Taiping\, Lorong Koperasi 1\, Kampung Jambu\, Taiping\, Perak\, 34000\, Malaysia
END:VEVENT
BEGIN:VEVENT
DTSTART;TZID=UTC:20221002T100000
DTEND;TZID=UTC:20221002T130000
DTSTAMP:20260423T234236
CREATED:20221004T041132Z
LAST-MODIFIED:20221004T064234Z
UID:946-1664704800-1664715600@jptvet.almaskills.com
SUMMARY:Ipoh\, Perak
DESCRIPTION:Sesi Taklimat & Temuduga TVET Anak Sarawak di Miri akan dijalankan di Dewan Suarah Miri \nBerikut merupakan maklumat lengkap sesi temuduga: \nTARIKH: 13 OKT 2022 (Khamis)\nMASA: 9.00 Pagi – 1.00 Petang\nTEMPAT: TINGKAT 1\, DEWAN SUARAH MIRI\, JALAN MERDU\, 98000 MIRI\, SARAWAK \nUntuk permohonan sesi taklimat & temuduga\, sila klik pautan di bawah: \n\nLink Temuduga\n \n” KEMAHIRAN TVET PEMACU INDUSTRI NEGARA 🎓” \nSekian\, terima kasih.
URL:https://jptvet.almaskills.com/kalendar-program-temuduga/ipoh-perak/
LOCATION:Masjid Sultan Idris Shah\, Bilik Anjung 1\, Masjid Sultan Idris Shah II\, Jalan Panglima Bukit Gantang Wahab\, Ipoh\, Perak\, 30000\, Malaysia
END:VEVENT
BEGIN:VEVENT
DTSTART;TZID=UTC:20221001T100000
DTEND;TZID=UTC:20221001T130000
DTSTAMP:20260423T234236
CREATED:20221004T043159Z
LAST-MODIFIED:20221004T043159Z
UID:978-1664618400-1664629200@jptvet.almaskills.com
SUMMARY:Batu Gajah\, Perak
DESCRIPTION:TEMUDUGA KOUTA TAWARAN KEMASUKAN PROGRAM KEMAHIRAN TVET MALAYSIA BAGI BELIA \nBIASISWA TVET (YURAN PENGAJIAN & PENGINAPAN) HANYA KURSUS TERTENTU & BERSYARAT\nProgram pembelajaran secara kemahiran & teknikal dengan kerjaya yang akan bertempat di *Pusat Pentauliahan Kemahiran di sekitar Negeri Johor\, Pahang\, Melaka dan Selangor/KL.* \nKEUTAMAAN KEPADA PEMOHON:\n✓ Berumur 15 – 25 tahun\n✓ Keputusan SPM tidak Layak mohon UPU (hanya kurang dari 3 Kepujian/kredit)\n✓ Minat Bidang Kemahiran & mengelakkan diri ke IPTS\n✓ Hanya GAGAL & LULUS SPM\n✓ Tidak memiliki Sijil Akademik seperti SPM/PT3 \nPROGRAM PRA DIPLOMA SAINS & DIPLOMA SAINS USAHASAMA (UA) SESI KEMASUKAN 2022/2023 TAJAAN BIASISWA PENUH BERSYARAT TANPA UPU BAGI YANG GAGAL MEMENUHI SYARAT KELAYAKAN UPU (Minimum 3 Kepujian dalam SPM) \nKURSUS YANG DIBUKA\n‼️ MEKATRONIK\n‼️ AUTOMOTIF\n‼️ JURUTEKNIK ELEKTRIK\n‼️ KIMPALAN\n‼️ RANGKAIAN SISTEM KOMPUTER\n‼️ SISTEM MAKLUMAT\n‼️ PENGURUSAN PEJABAT\n‼️ PENDIDIKAN AWAL KANAK KANAK\n‼️ SENI KULINARI\n‼️ MULTIMEDIA INTERAKTIF\n‼️ PERFILEMAN\n‼️ GRAFIK DESIGN\n‼️ SOLEKAN DAN KECANTIKAN \n📌 INSENTIF PINJAMAN KERAJAAN & KELEBIHAN\n(TVET Malaysia)\n✓ SIJIL & DIPLOMA diiktiraf & ditauliahkan oleh KERAJAAN\n✓ ELAUN SARA DIRI RM400 – RM600 SEBULAN\n✓ ELAUN PENGANGKUTAN RM2000 ONE OFF (PILIHAN)\n✓ ELAUN KOMPUTER RIBA RM 2500 ONE OFF (PILIHAN)\n✓ ADA PENGINAPAN ASRAMA\n✓ JAMINAN PEKERJAAN setelah Tamat Pengajian oleh INDUSTRI berkaitan. \nSila bawa bersama dokumen yang diperlukan :-\nSalinan Kad Pengenalan\nSalinan Keputusan PMR/PT3/ PRA SPM / SPM (Hanya Salah Satu shj).\nKehadiran temuduga WAJIB bersama IBUBAPA ATAU WAKIL PENJAGA \n✏️ PENGESAHAN ATAU CARA PERMOHONAN WAJIB melalui LINK dibawah:\nLINK PERMOHONAN\nhttps://forms.gle/N2EjS4pNn2StsVSn7 \n” KEMAHIRAN TVET PEMACU INDUSTRI NEGARA 🎓” \nSekian\, terima kasih.
URL:https://jptvet.almaskills.com/kalendar-program-temuduga/batu-gajah-perak/
LOCATION:Masjid Toh Puan Besar Hatijah\, Masjid Toh Puan Besar Hatijah\, Jalan Besar\, Kampung Serani\, Batu Gajah\, Perak\, 31000\, Malaysia
END:VEVENT
BEGIN:VEVENT
DTSTART;TZID=UTC:20221001T100000
DTEND;TZID=UTC:20221001T130000
DTSTAMP:20260423T234236
CREATED:20221004T042212Z
LAST-MODIFIED:20221004T042212Z
UID:975-1664618400-1664629200@jptvet.almaskills.com
SUMMARY:Manjung\, Perak
DESCRIPTION:TEMUDUGA KOUTA TAWARAN KEMASUKAN PROGRAM KEMAHIRAN TVET MALAYSIA BAGI BELIA \nBIASISWA TVET (YURAN PENGAJIAN & PENGINAPAN) HANYA KURSUS TERTENTU & BERSYARAT\nProgram pembelajaran secara kemahiran & teknikal dengan kerjaya yang akan bertempat di *Pusat Pentauliahan Kemahiran di sekitar Negeri Johor\, Pahang\, Melaka dan Selangor/KL.* \nKEUTAMAAN KEPADA PEMOHON:\n✓ Berumur 15 – 25 tahun\n✓ Keputusan SPM tidak Layak mohon UPU (hanya kurang dari 3 Kepujian/kredit)\n✓ Minat Bidang Kemahiran & mengelakkan diri ke IPTS\n✓ Hanya GAGAL & LULUS SPM\n✓ Tidak memiliki Sijil Akademik seperti SPM/PT3 \nPROGRAM PRA DIPLOMA SAINS & DIPLOMA SAINS USAHASAMA (UA) SESI KEMASUKAN 2022/2023 TAJAAN BIASISWA PENUH BERSYARAT TANPA UPU BAGI YANG GAGAL MEMENUHI SYARAT KELAYAKAN UPU (Minimum 3 Kepujian dalam SPM) \nKURSUS YANG DIBUKA\n‼️ MEKATRONIK\n‼️ AUTOMOTIF\n‼️ JURUTEKNIK ELEKTRIK\n‼️ KIMPALAN\n‼️ RANGKAIAN SISTEM KOMPUTER\n‼️ SISTEM MAKLUMAT\n‼️ PENGURUSAN PEJABAT\n‼️ PENDIDIKAN AWAL KANAK KANAK\n‼️ SENI KULINARI\n‼️ MULTIMEDIA INTERAKTIF\n‼️ PERFILEMAN\n‼️ GRAFIK DESIGN\n‼️ SOLEKAN DAN KECANTIKAN \n📌 INSENTIF PINJAMAN KERAJAAN & KELEBIHAN\n(TVET Malaysia)\n✓ SIJIL & DIPLOMA diiktiraf & ditauliahkan oleh KERAJAAN\n✓ ELAUN SARA DIRI RM400 – RM600 SEBULAN\n✓ ELAUN PENGANGKUTAN RM2000 ONE OFF (PILIHAN)\n✓ ELAUN KOMPUTER RIBA RM 2500 ONE OFF (PILIHAN)\n✓ ADA PENGINAPAN ASRAMA\n✓ JAMINAN PEKERJAAN setelah Tamat Pengajian oleh INDUSTRI berkaitan. \nSila bawa bersama dokumen yang diperlukan :-\nSalinan Kad Pengenalan\nSalinan Keputusan PMR/PT3/ PRA SPM / SPM (Hanya Salah Satu shj).\nKehadiran temuduga WAJIB bersama IBUBAPA ATAU WAKIL PENJAGA \n✏️ PENGESAHAN ATAU CARA PERMOHONAN WAJIB melalui LINK dibawah:\nLINK PERMOHONAN\nhttps://forms.gle/N2EjS4pNn2StsVSn7 \n” KEMAHIRAN TVET PEMACU INDUSTRI NEGARA 🎓” \nSekian\, terima kasih.
URL:https://jptvet.almaskills.com/kalendar-program-temuduga/manjung-perak/
LOCATION:Kolej Vokasional Seri Manjung\, Kolej Vokasional Seri Manjung\, Jalan SM 3C/1\, Seri Manjung\, Perak\, 32040\, Malaysia
END:VEVENT
BEGIN:VEVENT
DTSTART;TZID=UTC:20220925T100000
DTEND;TZID=UTC:20220925T130000
DTSTAMP:20260423T234236
CREATED:20220926T042347Z
LAST-MODIFIED:20221004T033925Z
UID:678-1664100000-1664110800@jptvet.almaskills.com
SUMMARY:Bukit Damansara
DESCRIPTION:
URL:https://jptvet.almaskills.com/kalendar-program-temuduga/bukit-damansara/
LOCATION:Masjid Saidina Umar Al-Khattab\, Bilik Seminar\, Masjid Saidina Umar Al-Khattab\, Jalan Setia Budi\, Bukit Damansara\, Kuala Lumpur\, 50490\, Malaysia
END:VEVENT
END:VCALENDAR